BEGIN:VCALENDAR
VERSION:2.0
PRODID:-//Loire Atlantique Photo - ECPv6.15.20//NONSGML v1.0//EN
CALSCALE:GREGORIAN
METHOD:PUBLISH
X-ORIGINAL-URL:https://loireatlantiquephoto.fr
X-WR-CALDESC:Évènements pour Loire Atlantique Photo
REFRESH-INTERVAL;VALUE=DURATION:PT1H
X-Robots-Tag:noindex
X-PUBLISHED-TTL:PT1H
BEGIN:VTIMEZONE
TZID:Europe/Paris
BEGIN:DAYLIGHT
TZOFFSETFROM:+0100
TZOFFSETTO:+0200
TZNAME:CEST
DTSTART:20240331T010000
END:DAYLIGHT
BEGIN:STANDARD
TZOFFSETFROM:+0200
TZOFFSETTO:+0100
TZNAME:CET
DTSTART:20241027T010000
END:STANDARD
BEGIN:DAYLIGHT
TZOFFSETFROM:+0100
TZOFFSETTO:+0200
TZNAME:CEST
DTSTART:20250330T010000
END:DAYLIGHT
BEGIN:STANDARD
TZOFFSETFROM:+0200
TZOFFSETTO:+0100
TZNAME:CET
DTSTART:20251026T010000
END:STANDARD
BEGIN:DAYLIGHT
TZOFFSETFROM:+0100
TZOFFSETTO:+0200
TZNAME:CEST
DTSTART:20260329T010000
END:DAYLIGHT
BEGIN:STANDARD
TZOFFSETFROM:+0200
TZOFFSETTO:+0100
TZNAME:CET
DTSTART:20261025T010000
END:STANDARD
END:VTIMEZONE
BEGIN:VEVENT
DTSTART;TZID=Europe/Paris:20250403T200000
DTEND;TZID=Europe/Paris:20250403T220000
DTSTAMP:20260423T085401
CREATED:20250315T102326Z
LAST-MODIFIED:20250315T103058Z
UID:8369-1743710400-1743717600@loireatlantiquephoto.fr
SUMMARY:Projection/débat avec Vincent Rannou autour du film "Argoat"
DESCRIPTION:Cinéma le Beaulieu – Bouguenais
URL:https://loireatlantiquephoto.fr/event/projection-debat-autour-du-film-de-vincent-rannou-argoat/
END:VEVENT
BEGIN:VEVENT
DTSTART;VALUE=DATE:20250405
DTEND;VALUE=DATE:20250422
DTSTAMP:20260423T085401
CREATED:20241218T174017Z
LAST-MODIFIED:20241218T174017Z
UID:7822-1743811200-1745279999@loireatlantiquephoto.fr
SUMMARY:Exposition Fotolap 2025
DESCRIPTION:Pornic
URL:https://loireatlantiquephoto.fr/event/exposition-fotolap-2025/
END:VEVENT
BEGIN:VEVENT
DTSTART;TZID=Europe/Paris:20250405T110000
DTEND;TZID=Europe/Paris:20250405T120000
DTSTAMP:20260423T085401
CREATED:20250311T094146Z
LAST-MODIFIED:20250311T094146Z
UID:8350-1743850800-1743854400@loireatlantiquephoto.fr
SUMMARY:Vernissage exposition Fotolap
DESCRIPTION:Pornic
URL:https://loireatlantiquephoto.fr/event/vernissage-exposition-fotolap/
END:VEVENT
BEGIN:VEVENT
DTSTART;TZID=Europe/Paris:20250405T140000
DTEND;TZID=Europe/Paris:20250405T163000
DTSTAMP:20260423T085401
CREATED:20241113T045438Z
LAST-MODIFIED:20241113T045438Z
UID:7575-1743861600-1743870600@loireatlantiquephoto.fr
SUMMARY:Atelier initiation Sténopé
DESCRIPTION:Formation
URL:https://loireatlantiquephoto.fr/event/atelier-initiation-stenope/
END:VEVENT
BEGIN:VEVENT
DTSTART;VALUE=DATE:20250417
DTEND;VALUE=DATE:20250418
DTSTAMP:20260423T085401
CREATED:20250121T113228Z
LAST-MODIFIED:20250205T154119Z
UID:7991-1744848000-1744934399@loireatlantiquephoto.fr
SUMMARY:Réunion des correspondants LAP
DESCRIPTION:Gétigné
URL:https://loireatlantiquephoto.fr/event/reunion-des-correspondants-2/
END:VEVENT
BEGIN:VEVENT
DTSTART;VALUE=DATE:20250419
DTEND;VALUE=DATE:20250422
DTSTAMP:20260423T085401
CREATED:20240924T152405Z
LAST-MODIFIED:20240924T152430Z
UID:7168-1745020800-1745279999@loireatlantiquephoto.fr
SUMMARY:Les choix du photographe du cadrage au tirage
DESCRIPTION:Formation
URL:https://loireatlantiquephoto.fr/event/les-choix-du-photographe-du-cadrage-au-tirage-formation/
END:VEVENT
BEGIN:VEVENT
DTSTART;VALUE=DATE:20250426
DTEND;VALUE=DATE:20250428
DTSTAMP:20260423T085401
CREATED:20241218T173707Z
LAST-MODIFIED:20241218T173749Z
UID:7820-1745625600-1745798399@loireatlantiquephoto.fr
SUMMARY:Participation au Festival des clubs photos du Pays de Retz
DESCRIPTION:Salle Escale à Sainte Pazanne
URL:https://loireatlantiquephoto.fr/event/participation-au-festival-des-clubs-photos-du-pays-de-retz/
END:VEVENT
END:VCALENDAR