BEGIN:VCALENDAR
VERSION:2.0
PRODID:-//Loire Atlantique Photo - ECPv6.15.20//NONSGML v1.0//EN
CALSCALE:GREGORIAN
METHOD:PUBLISH
X-ORIGINAL-URL:https://loireatlantiquephoto.fr
X-WR-CALDESC:Évènements pour Loire Atlantique Photo
REFRESH-INTERVAL;VALUE=DURATION:PT1H
X-Robots-Tag:noindex
X-PUBLISHED-TTL:PT1H
BEGIN:VTIMEZONE
TZID:Europe/Paris
BEGIN:DAYLIGHT
TZOFFSETFROM:+0100
TZOFFSETTO:+0200
TZNAME:CEST
DTSTART:20250330T010000
END:DAYLIGHT
BEGIN:STANDARD
TZOFFSETFROM:+0200
TZOFFSETTO:+0100
TZNAME:CET
DTSTART:20251026T010000
END:STANDARD
BEGIN:DAYLIGHT
TZOFFSETFROM:+0100
TZOFFSETTO:+0200
TZNAME:CEST
DTSTART:20260329T010000
END:DAYLIGHT
BEGIN:STANDARD
TZOFFSETFROM:+0200
TZOFFSETTO:+0100
TZNAME:CET
DTSTART:20261025T010000
END:STANDARD
BEGIN:DAYLIGHT
TZOFFSETFROM:+0100
TZOFFSETTO:+0200
TZNAME:CEST
DTSTART:20270328T010000
END:DAYLIGHT
BEGIN:STANDARD
TZOFFSETFROM:+0200
TZOFFSETTO:+0100
TZNAME:CET
DTSTART:20271031T010000
END:STANDARD
END:VTIMEZONE
BEGIN:VEVENT
DTSTART;VALUE=DATE:20260307
DTEND;VALUE=DATE:20260308
DTSTAMP:20260422T115814
CREATED:20251117T102440Z
LAST-MODIFIED:20251117T102531Z
UID:9323-1772841600-1772927999@loireatlantiquephoto.fr
SUMMARY:Formation : De la photo numérique au cyanotype
DESCRIPTION:
URL:https://loireatlantiquephoto.fr/event/de-la-photo-numerique-au-cyanotype/
END:VEVENT
BEGIN:VEVENT
DTSTART;TZID=Europe/Paris:20260313T203000
DTEND;TZID=Europe/Paris:20260313T233000
DTSTAMP:20260422T115814
CREATED:20250918T122211Z
LAST-MODIFIED:20250918T122211Z
UID:9019-1773433800-1773444600@loireatlantiquephoto.fr
SUMMARY:Formation : Photos de nuit en milieu urbain
DESCRIPTION:
URL:https://loireatlantiquephoto.fr/event/formation-photos-de-nuit-en-milieu-urbain/
END:VEVENT
BEGIN:VEVENT
DTSTART;TZID=Europe/Paris:20260316T203000
DTEND;TZID=Europe/Paris:20260316T213000
DTSTAMP:20260422T115814
CREATED:20260219T094408Z
LAST-MODIFIED:20260219T094408Z
UID:9731-1773693000-1773696600@loireatlantiquephoto.fr
SUMMARY:Présentation du projet Bicentenaire au PCN
DESCRIPTION:
URL:https://loireatlantiquephoto.fr/event/presentation-du-projet-bicentenaire-au-pcn/
END:VEVENT
BEGIN:VEVENT
DTSTART;VALUE=DATE:20260318
DTEND;VALUE=DATE:20260319
DTSTAMP:20260422T115814
CREATED:20251119T103037Z
LAST-MODIFIED:20251119T103100Z
UID:9340-1773792000-1773878399@loireatlantiquephoto.fr
SUMMARY:Réunion mensuelle des correspondants
DESCRIPTION:Trignac
URL:https://loireatlantiquephoto.fr/event/reunion-des-correspondants/
END:VEVENT
BEGIN:VEVENT
DTSTART;VALUE=DATE:20260321
DTEND;VALUE=DATE:20260326
DTSTAMP:20260422T115814
CREATED:20251126T125750Z
LAST-MODIFIED:20251128T143233Z
UID:9391-1774051200-1774483199@loireatlantiquephoto.fr
SUMMARY:Formation : Atelier Créer un livre photographique - 2026
DESCRIPTION:
URL:https://loireatlantiquephoto.fr/event/formation/
END:VEVENT
BEGIN:VEVENT
DTSTART;VALUE=DATE:20260328
DTEND;VALUE=DATE:20260329
DTSTAMP:20260422T115814
CREATED:20251117T203639Z
LAST-MODIFIED:20251117T203639Z
UID:9333-1774656000-1774742399@loireatlantiquephoto.fr
SUMMARY:Formation : Analyse d'image photographique - 2026
DESCRIPTION:
URL:https://loireatlantiquephoto.fr/event/formation-analyse-dimage-photographique-2026/
END:VEVENT
END:VCALENDAR